BEGIN:VCALENDAR
VERSION:2.0
PRODID:-//Stiftelsen Diakonova Haraldsplass - ECPv6.15.20//NONSGML v1.0//EN
CALSCALE:GREGORIAN
METHOD:PUBLISH
X-ORIGINAL-URL:https://www.haraldsplass.org
X-WR-CALDESC:Arrangement for Stiftelsen Diakonova Haraldsplass
REFRESH-INTERVAL;VALUE=DURATION:PT1H
X-Robots-Tag:noindex
X-PUBLISHED-TTL:PT1H
BEGIN:VTIMEZONE
TZID:Europe/Oslo
BEGIN:DAYLIGHT
TZOFFSETFROM:+0100
TZOFFSETTO:+0200
TZNAME:CEST
DTSTART:20240331T010000
END:DAYLIGHT
BEGIN:STANDARD
TZOFFSETFROM:+0200
TZOFFSETTO:+0100
TZNAME:CET
DTSTART:20241027T010000
END:STANDARD
BEGIN:DAYLIGHT
TZOFFSETFROM:+0100
TZOFFSETTO:+0200
TZNAME:CEST
DTSTART:20250330T010000
END:DAYLIGHT
BEGIN:STANDARD
TZOFFSETFROM:+0200
TZOFFSETTO:+0100
TZNAME:CET
DTSTART:20251026T010000
END:STANDARD
BEGIN:DAYLIGHT
TZOFFSETFROM:+0100
TZOFFSETTO:+0200
TZNAME:CEST
DTSTART:20260329T010000
END:DAYLIGHT
BEGIN:STANDARD
TZOFFSETFROM:+0200
TZOFFSETTO:+0100
TZNAME:CET
DTSTART:20261025T010000
END:STANDARD
END:VTIMEZONE
BEGIN:VEVENT
DTSTART;TZID=Europe/Oslo:20251001T114500
DTEND;TZID=Europe/Oslo:20251001T123000
DTSTAMP:20260425T125939
CREATED:20180502T173256Z
LAST-MODIFIED:20251218T085642Z
UID:10001176-1759319100-1759321800@www.haraldsplass.org
SUMMARY:Åpent hus på Søsterhjemmet
DESCRIPTION:
URL:https://www.haraldsplass.org/hendelse/apent-hus-pa-sosterhjemmet/2025-10-01/
LOCATION:Haraldsplass\, Ulriksdal 8\, Bergen\, 5009
CATEGORIES:Stiftelsen
END:VEVENT
BEGIN:VEVENT
DTSTART;TZID=Europe/Oslo:20251002T110000
DTEND;TZID=Europe/Oslo:20251002T123000
DTSTAMP:20260425T125939
CREATED:20250820T122008Z
LAST-MODIFIED:20250820T122008Z
UID:10001851-1759402800-1759408200@www.haraldsplass.org
SUMMARY:Høstfest på Søsterhjemmet
DESCRIPTION:Lunsj for alle på Haraldsplass Helsecampus serveres mellom 11 og 12:30. \nGudstjeneste klokken 11:15
URL:https://www.haraldsplass.org/hendelse/hostfest-pa-sosterhjemmet/
LOCATION:Søsterhjemmet\, Ulriksdal 8\, Norge
END:VEVENT
BEGIN:VEVENT
DTSTART;TZID=Europe/Oslo:20251008T114500
DTEND;TZID=Europe/Oslo:20251008T123000
DTSTAMP:20260425T125939
CREATED:20180502T173256Z
LAST-MODIFIED:20251218T085642Z
UID:10001177-1759923900-1759926600@www.haraldsplass.org
SUMMARY:Åpent hus på Søsterhjemmet
DESCRIPTION:
URL:https://www.haraldsplass.org/hendelse/apent-hus-pa-sosterhjemmet/2025-10-08/
LOCATION:Haraldsplass\, Ulriksdal 8\, Bergen\, 5009
CATEGORIES:Stiftelsen
END:VEVENT
BEGIN:VEVENT
DTSTART;TZID=Europe/Oslo:20251008T190000
DTEND;TZID=Europe/Oslo:20251008T203000
DTSTAMP:20260425T125939
CREATED:20250919T114737Z
LAST-MODIFIED:20250919T114807Z
UID:10001857-1759950000-1759955400@www.haraldsplass.org
SUMMARY:Kveldsgudstjeneste i Søsterhjemmets kapell
DESCRIPTION:
URL:https://www.haraldsplass.org/hendelse/kveldsgudstjeneste-i-sosterhjemmets-kapell/
CATEGORIES:Stiftelsen
END:VEVENT
BEGIN:VEVENT
DTSTART;TZID=Europe/Oslo:20251015T114500
DTEND;TZID=Europe/Oslo:20251015T123000
DTSTAMP:20260425T125939
CREATED:20180502T173256Z
LAST-MODIFIED:20251218T085642Z
UID:10001178-1760528700-1760531400@www.haraldsplass.org
SUMMARY:Åpent hus på Søsterhjemmet
DESCRIPTION:
URL:https://www.haraldsplass.org/hendelse/apent-hus-pa-sosterhjemmet/2025-10-15/
LOCATION:Haraldsplass\, Ulriksdal 8\, Bergen\, 5009
CATEGORIES:Stiftelsen
END:VEVENT
BEGIN:VEVENT
DTSTART;TZID=Europe/Oslo:20251022T114500
DTEND;TZID=Europe/Oslo:20251022T123000
DTSTAMP:20260425T125939
CREATED:20180502T173256Z
LAST-MODIFIED:20251218T085642Z
UID:10001179-1761133500-1761136200@www.haraldsplass.org
SUMMARY:Åpent hus på Søsterhjemmet
DESCRIPTION:
URL:https://www.haraldsplass.org/hendelse/apent-hus-pa-sosterhjemmet/2025-10-22/
LOCATION:Haraldsplass\, Ulriksdal 8\, Bergen\, 5009
CATEGORIES:Stiftelsen
END:VEVENT
BEGIN:VEVENT
DTSTART;TZID=Europe/Oslo:20251025T180000
DTEND;TZID=Europe/Oslo:20251026T140000
DTSTAMP:20260425T125939
CREATED:20250919T115001Z
LAST-MODIFIED:20250919T115001Z
UID:10001858-1761415200-1761487200@www.haraldsplass.org
SUMMARY:Medlems helg på Søsterhjemmet
DESCRIPTION:
URL:https://www.haraldsplass.org/hendelse/medlems-helg-pa-sosterhjemmet/
CATEGORIES:Stiftelsen
END:VEVENT
BEGIN:VEVENT
DTSTART;TZID=Europe/Oslo:20251026T110000
DTEND;TZID=Europe/Oslo:20251026T130000
DTSTAMP:20260425T125939
CREATED:20250919T115057Z
LAST-MODIFIED:20250919T115151Z
UID:10001859-1761476400-1761483600@www.haraldsplass.org
SUMMARY:Høymesse i Søsterhjemmets kapell
DESCRIPTION:
URL:https://www.haraldsplass.org/hendelse/hoymesse-i-sosterhjemmets-kapell/
CATEGORIES:Stiftelsen
END:VEVENT
BEGIN:VEVENT
DTSTART;TZID=Europe/Oslo:20251029T114500
DTEND;TZID=Europe/Oslo:20251029T123000
DTSTAMP:20260425T125939
CREATED:20180502T173256Z
LAST-MODIFIED:20251218T085642Z
UID:10001180-1761738300-1761741000@www.haraldsplass.org
SUMMARY:Åpent hus på Søsterhjemmet
DESCRIPTION:
URL:https://www.haraldsplass.org/hendelse/apent-hus-pa-sosterhjemmet/2025-10-29/
LOCATION:Haraldsplass\, Ulriksdal 8\, Bergen\, 5009
CATEGORIES:Stiftelsen
END:VEVENT
END:VCALENDAR