BEGIN:VCALENDAR
VERSION:2.0
PRODID:-//Stiftelsen Diakonova Haraldsplass - ECPv6.15.20//NONSGML v1.0//EN
CALSCALE:GREGORIAN
METHOD:PUBLISH
X-WR-CALNAME:Stiftelsen Diakonova Haraldsplass
X-ORIGINAL-URL:https://www.haraldsplass.org
X-WR-CALDESC:Arrangement for Stiftelsen Diakonova Haraldsplass
REFRESH-INTERVAL;VALUE=DURATION:PT1H
X-Robots-Tag:noindex
X-PUBLISHED-TTL:PT1H
BEGIN:VTIMEZONE
TZID:Europe/Oslo
BEGIN:DAYLIGHT
TZOFFSETFROM:+0100
TZOFFSETTO:+0200
TZNAME:CEST
DTSTART:20240331T010000
END:DAYLIGHT
BEGIN:STANDARD
TZOFFSETFROM:+0200
TZOFFSETTO:+0100
TZNAME:CET
DTSTART:20241027T010000
END:STANDARD
BEGIN:DAYLIGHT
TZOFFSETFROM:+0100
TZOFFSETTO:+0200
TZNAME:CEST
DTSTART:20250330T010000
END:DAYLIGHT
BEGIN:STANDARD
TZOFFSETFROM:+0200
TZOFFSETTO:+0100
TZNAME:CET
DTSTART:20251026T010000
END:STANDARD
BEGIN:DAYLIGHT
TZOFFSETFROM:+0100
TZOFFSETTO:+0200
TZNAME:CEST
DTSTART:20260329T010000
END:DAYLIGHT
BEGIN:STANDARD
TZOFFSETFROM:+0200
TZOFFSETTO:+0100
TZNAME:CET
DTSTART:20261025T010000
END:STANDARD
END:VTIMEZONE
BEGIN:VEVENT
DTSTART;TZID=Europe/Oslo:20250814T130000
DTEND;TZID=Europe/Oslo:20250814T134500
DTSTAMP:20260420T161615
CREATED:20250617T072255Z
LAST-MODIFIED:20250617T072255Z
UID:10001840-1755176400-1755179100@www.haraldsplass.org
SUMMARY:Arendalsuka
DESCRIPTION:Personsentrert omsorg – en nøkkel til bedre tjenester i møte med eldrebølgen? \nOm arrangementet\nAndelen eldre i befolkningen vokser\, noe som øker behovet for helse- og omsorgstjenester.\nSamtidig er det utfordrende å rekruttere tilstrekkelig med helsepersonell.\nHvordan skal man da beholde og helst øke kvaliteten på tjenestene?\nNy forskning fra VID vitenskapelige høyskole viser gode resultater for en norskutviklet personsentrert omsorgsmetode. Kan det være en del av løsningen? \nMedvirkende\n\nKlaus Holthe – Kommunikasjonsansvarlig\, Stiftelsen Diakonova Haraldsplass (Ordstyrer)\nAstrid Aarhus Byrknes – Samfunns- og myndighetskontakt\, Stiftelsen Diakonova Haraldsplass\nIngrid Blokhus – Fagsjef\, Grefsenhjemmet sykehjemsdrift AS\nLine Constance Holmsen – Forsker\, VID vitenskapelige høgskole\nAnita Lyssand – Direktør omsorg\, Stiftelsen Diakonova Haraldsplass\n\nArrangør: \n\nStiftelsen Diakonova Haraldsplass\nSparebanken Norge\nVID vitenskapelige høgskole
URL:https://www.haraldsplass.org/hendelse/arendalsuka-4/
LOCATION:Kirkebakken 2\, Kirkebakken 2\, Arendal
END:VEVENT
BEGIN:VEVENT
DTSTART;TZID=Europe/Oslo:20250812T140000
DTEND;TZID=Europe/Oslo:20250812T144500
DTSTAMP:20260420T161615
CREATED:20250617T071338Z
LAST-MODIFIED:20250617T071338Z
UID:10001838-1755007200-1755009900@www.haraldsplass.org
SUMMARY:Arendalsuka
DESCRIPTION:Nye hjem\, nye hjerterom: Hvordan fikser vi eldrebølgen i boligmarkedet? \nNorge står i midt i eldrebølgen og for hvert år fremover vil befolkningen over 70 år vokse betydelig. I 2030 vil hver fjerde nordmann være pensjonist. \nHva betyr det for boligmarkedet? \nHva betyr det for hvordan vi bygger og planlegger boligprosjekter i årene fremover? \nOg: Er det mulig å tenke nytt rundt boligstrukturen og finne nye boligløsninger for den stadig voksende seniorbefolkningen? \nMedvirkende\n\nAstrid Aarhus Byrknes – Samfunns- og myndighetskontakt\, Stiftelsen Diakonova Haraldsplass (Ordstyrer)\nKlaus Holthe – Kommunikasjonsansvarlig\, Stiftelsen Diakonova Haraldsplass\nGunnar Hernborg – Eiendomsdiektør\, Stiftelsen Diakonova Haraldsplass\nKnut Olav Wik-Klokk – Daglig leder\, Sequoia\nHenning Lauridsen – Adm.dir.\, Eiendom Norge\nJan Hjelle – Adm.dir.\, Husbanken\nSiri Gåsemyr Staalesen – Stortingsrepresentant\, AP\nUlf Øyvind Lund – Partner\, Sequoia\n\nArrangør: \n\nStiftelsen Diakonova Haraldsplass\nEiendom Norge\nSparebanken Norge\nEiendomsmegler Norge
URL:https://www.haraldsplass.org/hendelse/arendalsuka-2/
LOCATION:Kirkebakken 2\, Kirkebakken 2\, Arendal
END:VEVENT
BEGIN:VEVENT
DTSTART;TZID=Europe/Oslo:20250811T114500
DTEND;TZID=Europe/Oslo:20250811T123000
DTSTAMP:20260420T161615
CREATED:20250617T070856Z
LAST-MODIFIED:20250617T070856Z
UID:10001837-1754912700-1754915400@www.haraldsplass.org
SUMMARY:Arendalsuka
DESCRIPTION:Fysisk trening som behandling for psykisk lidelse: \nFra vitenskap til helsepolitikk \nMedvirkende\n\nAstrid Aarhus Byrknes – Samfunns- og myndighetskontakt\, Stiftelsen Diakonova Haraldsplass Ordstyrer\nKåre Rønningen – Kommunikasjonssjef\, Knif Innkjøp Ordstyrer\nFrederic Andre Eftevaag Larsen – Adm. dir. Solli DPS\, Stiftelsen Diakonova Haraldsplass\nKristine Sirevåg – Forskningsleder Solli DPS\, Stiftelsen Diakonova Haraldsplass\n\nArrangør: \nStiftelsen Diakonova Haraldsplass \nSparebanken Norge \nKNIF
URL:https://www.haraldsplass.org/hendelse/arendalsuka/
LOCATION:Kirkebakken 2\, Kirkebakken 2\, Arendal
END:VEVENT
END:VCALENDAR