BEGIN:VCALENDAR
VERSION:2.0
PRODID:-//Stiftelsen Diakonova Haraldsplass - ECPv6.15.20//NONSGML v1.0//EN
CALSCALE:GREGORIAN
METHOD:PUBLISH
X-WR-CALNAME:Stiftelsen Diakonova Haraldsplass
X-ORIGINAL-URL:https://www.haraldsplass.org
X-WR-CALDESC:Arrangement for Stiftelsen Diakonova Haraldsplass
REFRESH-INTERVAL;VALUE=DURATION:PT1H
X-Robots-Tag:noindex
X-PUBLISHED-TTL:PT1H
BEGIN:VTIMEZONE
TZID:Europe/Oslo
BEGIN:DAYLIGHT
TZOFFSETFROM:+0100
TZOFFSETTO:+0200
TZNAME:CEST
DTSTART:20240331T010000
END:DAYLIGHT
BEGIN:STANDARD
TZOFFSETFROM:+0200
TZOFFSETTO:+0100
TZNAME:CET
DTSTART:20241027T010000
END:STANDARD
BEGIN:DAYLIGHT
TZOFFSETFROM:+0100
TZOFFSETTO:+0200
TZNAME:CEST
DTSTART:20250330T010000
END:DAYLIGHT
BEGIN:STANDARD
TZOFFSETFROM:+0200
TZOFFSETTO:+0100
TZNAME:CET
DTSTART:20251026T010000
END:STANDARD
BEGIN:DAYLIGHT
TZOFFSETFROM:+0100
TZOFFSETTO:+0200
TZNAME:CEST
DTSTART:20260329T010000
END:DAYLIGHT
BEGIN:STANDARD
TZOFFSETFROM:+0200
TZOFFSETTO:+0100
TZNAME:CET
DTSTART:20261025T010000
END:STANDARD
END:VTIMEZONE
BEGIN:VEVENT
DTSTART;TZID=Europe/Oslo:20250812T173000
DTEND;TZID=Europe/Oslo:20250812T182000
DTSTAMP:20260422T153843
CREATED:20250617T072012Z
LAST-MODIFIED:20250617T072012Z
UID:10001839-1755019800-1755022800@www.haraldsplass.org
SUMMARY:Arendalsuka
DESCRIPTION:Velferdsorganisasjoner i skvis – er velferd bare pris? Ideelles plass i helse og omsorg. \nOm arrangementet\nIdeelle organisasjoner står for 8\,5 prosent av velferdssysselsettingen i Norge – og deres rolle i helse- og omsorgssektoren er avgjørende. Likevel er rammevilkårene under press\, og ideell sektor tappes. \nØkt konkurranse både fra offentlige og kommersielle aktører\, drift som overtas av det offentlige eller legges ned på kort varsel\, og politiske prioriteringer lokalt og nasjonalt utfordrer ideelle aktørers mulighet til å vokse\, fornye og bidra. \nDerfor inviterer en samlet ideell sektor til en frisk og viktig samtale. Vi samler politikere\, eksperter og ledere fra ideell sektor til diskusjon. \nMedvirkende\n\nLiv Hilde Myrset Briså – PhD-stipendiat\, VID\nHenrik Syse – Professor\, The Peace Research Institute Oslo\nEllen Rønning-Arnesen – Statssekretær\, Helse- og omsorgsdepartementet\nAdelheid Firing Hvambsal – Generalsekretær\, Kirkens Bymisjon\nKlaus Holthe – Kommunikasjonslederdirektør\, Stiftelsen Diakonova Haraldsplass\nAnita Ellefsen – Assisterende generalsekretær og ledere for ideelt nettverk\, Blå Kors\n\nArrangør: \n\nBlå Kors\nDiakonhjemmet stiftelse\nStiftelsen Diakonova Haraldsplass\nStiftelsen CRUX\nStiftelsen Signo\nKirkens Bymisjon\nStiftelsen Betanien
URL:https://www.haraldsplass.org/hendelse/arendalsuka-3/
LOCATION:Langbryggen\, Langbryggen 15\, Arendal
END:VEVENT
END:VCALENDAR